BEGIN:VCALENDAR
VERSION:2.0
PRODID:-//Minnesota PGA Section - ECPv6.15.20//NONSGML v1.0//EN
CALSCALE:GREGORIAN
METHOD:PUBLISH
X-WR-CALNAME:Minnesota PGA Section
X-ORIGINAL-URL:https://www.minnesotapga.com
X-WR-CALDESC:Events for Minnesota PGA Section
REFRESH-INTERVAL;VALUE=DURATION:PT1H
X-Robots-Tag:noindex
X-PUBLISHED-TTL:PT1H
BEGIN:VTIMEZONE
TZID:UTC
BEGIN:STANDARD
TZOFFSETFROM:+0000
TZOFFSETTO:+0000
TZNAME:UTC
DTSTART:20210101T000000
END:STANDARD
END:VTIMEZONE
BEGIN:VEVENT
DTSTART;TZID=UTC:20220303T090000
DTEND;TZID=UTC:20220303T120000
DTSTAMP:20260423T230524
CREATED:20220121T184301Z
LAST-MODIFIED:20220121T184301Z
UID:10000270-1646298000-1646308800@www.minnesotapga.com
SUMMARY:Employment Seminar
DESCRIPTION:Day’s Activities: \n9:00 am – 9:15 am – Introductions\n9:15 am – 10:30 am – Jacque Madison\, PGA Career Consultant \nNational Employment Trends/What are Employer’s Wants/Needs \n10:30 am – 11:30 am – Panel Discussion – Connor Bergman (Northland CC)\, Michael Foley (Somerset CC)\, Andy Gerber (Hidden Greens GC) \nWhat local employers want\, Interviewing techniques\, Resumes/Portfolios\, Seasonal Employees \n11:30 am – 12:00 pm – Q&A \n12:00 pm – Lunch provided \n*Three (3) PGA Required MSR available to attendees.
URL:https://www.minnesotapga.com/event/employment-seminar/
END:VEVENT
END:VCALENDAR