BEGIN:VCALENDAR
VERSION:2.0
PRODID:-//Minnesota PGA Section - ECPv6.15.20//NONSGML v1.0//EN
CALSCALE:GREGORIAN
METHOD:PUBLISH
X-WR-CALNAME:Minnesota PGA Section
X-ORIGINAL-URL:https://www.minnesotapga.com
X-WR-CALDESC:Events for Minnesota PGA Section
REFRESH-INTERVAL;VALUE=DURATION:PT1H
X-Robots-Tag:noindex
X-PUBLISHED-TTL:PT1H
BEGIN:VTIMEZONE
TZID:UTC
BEGIN:STANDARD
TZOFFSETFROM:+0000
TZOFFSETTO:+0000
TZNAME:UTC
DTSTART:20220101T000000
END:STANDARD
END:VTIMEZONE
BEGIN:VEVENT
DTSTART;VALUE=DATE:20230609
DTEND;VALUE=DATE:20230612
DTSTAMP:20260425T131927
CREATED:20230510T134054Z
LAST-MODIFIED:20230510T134207Z
UID:10000431-1686268800-1686527999@www.minnesotapga.com
SUMMARY:Tapemark Minnesota PGA Pro-Am
DESCRIPTION:
URL:https://www.minnesotapga.com/event/tapemark-minnesota-pga-pro-am-4/
END:VEVENT
END:VCALENDAR