BEGIN:VCALENDAR
VERSION:2.0
PRODID:-//Minnesota PGA Section - ECPv6.15.20//NONSGML v1.0//EN
CALSCALE:GREGORIAN
METHOD:PUBLISH
X-WR-CALNAME:Minnesota PGA Section
X-ORIGINAL-URL:https://www.minnesotapga.com
X-WR-CALDESC:Events for Minnesota PGA Section
REFRESH-INTERVAL;VALUE=DURATION:PT1H
X-Robots-Tag:noindex
X-PUBLISHED-TTL:PT1H
BEGIN:VTIMEZONE
TZID:UTC
BEGIN:STANDARD
TZOFFSETFROM:+0000
TZOFFSETTO:+0000
TZNAME:UTC
DTSTART:20230101T000000
END:STANDARD
END:VTIMEZONE
BEGIN:VEVENT
DTSTART;TZID=UTC:20240202T160000
DTEND;TZID=UTC:20240202T180000
DTSTAMP:20260420T055222
CREATED:20240118T152608Z
LAST-MODIFIED:20240118T152608Z
UID:10000479-1706889600-1706896800@www.minnesotapga.com
SUMMARY:Minnesota PGA Assistant Social
DESCRIPTION:Join your fellow Associates and A-8 Members for a casual night of bowling at Park Tavern on Friday\, February 2 at 4:00pm – 6:00pm. \nAll Associates (Level 1\, 2\, 3) and A-8 Assistant Professionals are invited to join. \nLocation: \nPark Tavern\n3401 Louisiana Ave S\nSt Louis Park\, MN 55426 \nCost: $17 paid at Park Tavern for bowling and shoe rental. \n**Get a chance to meet our local PGA Career Consultant\, Andrea Kloppman-Heit and get to know others who are completing the PGA PGM Associate Program. We look forward to seeing you there on February 2!
URL:https://www.minnesotapga.com/event/minnesota-pga-assistant-social/
END:VEVENT
END:VCALENDAR