BEGIN:VCALENDAR
VERSION:2.0
PRODID:-//Minnesota PGA Section - ECPv6.15.20//NONSGML v1.0//EN
CALSCALE:GREGORIAN
METHOD:PUBLISH
X-WR-CALNAME:Minnesota PGA Section
X-ORIGINAL-URL:https://www.minnesotapga.com
X-WR-CALDESC:Events for Minnesota PGA Section
REFRESH-INTERVAL;VALUE=DURATION:PT1H
X-Robots-Tag:noindex
X-PUBLISHED-TTL:PT1H
BEGIN:VTIMEZONE
TZID:UTC
BEGIN:STANDARD
TZOFFSETFROM:+0000
TZOFFSETTO:+0000
TZNAME:UTC
DTSTART:20230101T000000
END:STANDARD
END:VTIMEZONE
BEGIN:VEVENT
DTSTART;TZID=UTC:20240228T160000
DTEND;TZID=UTC:20240228T173000
DTSTAMP:20260425T150353
CREATED:20240118T160223Z
LAST-MODIFIED:20240118T160223Z
UID:10000483-1709136000-1709141400@www.minnesotapga.com
SUMMARY:Pro's in the Snow "Bokklubb"
DESCRIPTION:A SERIES OF WINTER MEET UPS\nCONNECTING THROUGH BOOK REVIEWS \n*EARN 1 PDR POINT PER MEETING* \nGOAL: To foster and enrich the PGA Community of Professionals during the off-season while growing personally and professionally together. \nWHO IS INVITED: Anyone associated with the Minnesota PGA who wants to connect with others and grow through reading and discussion. The way to sign up each month is by suggesting a book for the group to read at the link below. \nWHEN: Monthly (middle of the month)\, each off-season\, November through March.\nWeekdays – 4pm – 5:30 pm \nWHERE: Breweries\, Coffee Shops\, Restaurants in Metro Area (TBA before each meeting) \nHOW IT WORKS \n\n A month in advance\, book suggestions are submitted and voted on via a google doc link.\nMust be able to attend the next book review session if you make a suggestion.\nThe suggested books should be less than 300 pages.\nThe suggested book with the highest voting average on the deadline is the one selected.\nWhomever has their book selected is assigned as the discussion leader that month.\nEach person reads the selected book and we meet to socialize and discuss!\n\nFebruary Book Suggestions:\nDeadline to submit suggestions – February 5th\nNote sent to group announcing the selection – February 5th\nBook Review Get Together – February 28th 4pm-5:30pm at Hackamore Brewing in Chanhassen \n  \nCLICK HERE TO SIGN UP AND SUBMIT YOUR BOOK SUGGESTION
URL:https://www.minnesotapga.com/event/pros-in-the-snow-bokklubb/
END:VEVENT
END:VCALENDAR