BEGIN:VCALENDAR
VERSION:2.0
PRODID:-//Minnesota PGA Section - ECPv6.15.20//NONSGML v1.0//EN
CALSCALE:GREGORIAN
METHOD:PUBLISH
X-WR-CALNAME:Minnesota PGA Section
X-ORIGINAL-URL:https://www.minnesotapga.com
X-WR-CALDESC:Events for Minnesota PGA Section
REFRESH-INTERVAL;VALUE=DURATION:PT1H
X-Robots-Tag:noindex
X-PUBLISHED-TTL:PT1H
BEGIN:VTIMEZONE
TZID:UTC
BEGIN:STANDARD
TZOFFSETFROM:+0000
TZOFFSETTO:+0000
TZNAME:UTC
DTSTART:20240101T000000
END:STANDARD
END:VTIMEZONE
BEGIN:VEVENT
DTSTART;TZID=UTC:20250407T083000
DTEND;TZID=UTC:20250407T150000
DTSTAMP:20260425T232305
CREATED:20250310T140643Z
LAST-MODIFIED:20250310T140643Z
UID:10000534-1744014600-1744038000@www.minnesotapga.com
SUMMARY:Spring Teaching & Coaching Summit
DESCRIPTION:
URL:https://www.minnesotapga.com/event/spring-teaching-coaching-summit/
END:VEVENT
BEGIN:VEVENT
DTSTART;TZID=UTC:20250407T170000
DTEND;TZID=UTC:20250407T190000
DTSTAMP:20260425T232305
CREATED:20250218T154743Z
LAST-MODIFIED:20250218T155221Z
UID:10000528-1744045200-1744052400@www.minnesotapga.com
SUMMARY:Ladies Swing & Social
DESCRIPTION:Ladies Swing & Social\nMonday\, April 7 | 5:00-7:00pm\nat Topgolf\nWhether you are just starting your golf journey or already enjoying the game\, join us for a fun night out at Topgolf-Brooklyn Center! This is an open house style event\, RSVP to hold your spot. Open to women 18+ years of age. Hosted by the Minnesota PGA Section. \n\n\n\nMini Lessons with PGA Professionals\nContests & Giveaways\nClub Fitting\nFind more golf opportunities like joining a women’s leagues or programs offered at your local golf course\n\n\n\nAdditional Information \nRegister
URL:https://www.minnesotapga.com/event/ladies-swing-social/
LOCATION:Topgolf\, 6420 Camden Ave. N\, Brooklyn Center\, MN\, 55430
GEO:45.0712567;-93.288021
X-APPLE-STRUCTURED-LOCATION;VALUE=URI;X-ADDRESS=Topgolf 6420 Camden Ave. N Brooklyn Center MN 55430;X-APPLE-RADIUS=500;X-TITLE=6420 Camden Ave. N:geo:-93.288021,45.0712567
END:VEVENT
END:VCALENDAR