BEGIN:VCALENDAR
VERSION:2.0
PRODID:-//Minnesota PGA Section - ECPv6.15.20//NONSGML v1.0//EN
CALSCALE:GREGORIAN
METHOD:PUBLISH
X-ORIGINAL-URL:https://www.minnesotapga.com
X-WR-CALDESC:Events for Minnesota PGA Section
REFRESH-INTERVAL;VALUE=DURATION:PT1H
X-Robots-Tag:noindex
X-PUBLISHED-TTL:PT1H
BEGIN:VTIMEZONE
TZID:UTC
BEGIN:STANDARD
TZOFFSETFROM:+0000
TZOFFSETTO:+0000
TZNAME:UTC
DTSTART:20240101T000000
END:STANDARD
END:VTIMEZONE
BEGIN:VEVENT
DTSTART;VALUE=DATE:20250916
DTEND;VALUE=DATE:20250917
DTSTAMP:20260420T203452
CREATED:20250820T201153Z
LAST-MODIFIED:20250820T201153Z
UID:10000659-1757980800-1758067199@www.minnesotapga.com
SUMMARY:Twin Cities CBMC Pro-Am Golf Classic
DESCRIPTION:This is an invitation only Pro-Am.
URL:https://www.minnesotapga.com/event/twin-cities-cbmc-pro-am-golf-classic/
LOCATION:Rush Creek GC
END:VEVENT
END:VCALENDAR