BEGIN:VCALENDAR
VERSION:2.0
PRODID:-//Minnesota PGA Section - ECPv6.15.20//NONSGML v1.0//EN
CALSCALE:GREGORIAN
METHOD:PUBLISH
X-WR-CALNAME:Minnesota PGA Section
X-ORIGINAL-URL:https://www.minnesotapga.com
X-WR-CALDESC:Events for Minnesota PGA Section
REFRESH-INTERVAL;VALUE=DURATION:PT1H
X-Robots-Tag:noindex
X-PUBLISHED-TTL:PT1H
BEGIN:VTIMEZONE
TZID:UTC
BEGIN:STANDARD
TZOFFSETFROM:+0000
TZOFFSETTO:+0000
TZNAME:UTC
DTSTART:20240101T000000
END:STANDARD
END:VTIMEZONE
BEGIN:VEVENT
DTSTART;VALUE=DATE:20251013
DTEND;VALUE=DATE:20251014
DTSTAMP:20260421T155145
CREATED:20250820T202329Z
LAST-MODIFIED:20250820T202329Z
UID:10000672-1760313600-1760399999@www.minnesotapga.com
SUMMARY:Assistants' 6-6-6 Event
DESCRIPTION: Begins:\nAug 18\, 2025 at 12:00 PM CDT\n\n\n Entry Deadline:\nOct 9\, 2025 at 12:00 PM CDT\n\n\n Entry Fee:\n$80 per member\n\n\n Open To:\nMembers: \n\n2025 Assistants Chapter Fee Required:\n2025 Assistants Chapter Fee\n\n\n\n\n Field Size:\n84 players – Spots available
URL:https://www.minnesotapga.com/event/assistants-6-6-6-event/
LOCATION:Oak Ridge Country Club
END:VEVENT
BEGIN:VEVENT
DTSTART;VALUE=DATE:20251013
DTEND;VALUE=DATE:20251014
DTSTAMP:20260421T155145
CREATED:20250820T202435Z
LAST-MODIFIED:20250820T202435Z
UID:10000675-1760313600-1760399999@www.minnesotapga.com
SUMMARY:Dakota Chapter Championship
DESCRIPTION:Begins:\nMar 24\, 2025 at 9:00 AM CDT\n\n\n Entry Deadline:\nOct 9\, 2025 at 12:00 PM CDT\n\n\n\n\n\n\n Entry Fee:\n Fee\n\n\n\n Meeting Only\n\n$25\n\n\n\n\n Golf Only\n\n$60\n\n\n\n\n Golf + Meeting\n\n$85\n\n\n\n\n\n\n\n\n Open To:\nMembers: \n\n2025 Dakota Chapter Membership Required:\nAssociate\nMember\n\n\n\n\n Field Size:\n72 players – Spots available
URL:https://www.minnesotapga.com/event/dakota-chapter-championship-4/
LOCATION:Oxbow CC
END:VEVENT
END:VCALENDAR