BEGIN:VCALENDAR
VERSION:2.0
PRODID:-//Minnesota PGA Section - ECPv6.15.20//NONSGML v1.0//EN
CALSCALE:GREGORIAN
METHOD:PUBLISH
X-WR-CALNAME:Minnesota PGA Section
X-ORIGINAL-URL:https://www.minnesotapga.com
X-WR-CALDESC:Events for Minnesota PGA Section
REFRESH-INTERVAL;VALUE=DURATION:PT1H
X-Robots-Tag:noindex
X-PUBLISHED-TTL:PT1H
BEGIN:VTIMEZONE
TZID:UTC
BEGIN:STANDARD
TZOFFSETFROM:+0000
TZOFFSETTO:+0000
TZNAME:UTC
DTSTART:20200101T000000
END:STANDARD
END:VTIMEZONE
BEGIN:VEVENT
DTSTART;TZID=UTC:20210503T080000
DTEND;TZID=UTC:20210503T130000
DTSTAMP:20260424T041727
CREATED:20201102T201212Z
LAST-MODIFIED:20210430T183932Z
UID:10000295-1620028800-1620046800@www.minnesotapga.com
SUMMARY:Spring Update/Education
DESCRIPTION:Register Now \n8:00am – Registration\, coffee\, and rolls \n8:30am – Meeting begins \n12:00pm – Lunch included \n1:00pm – Golf event (Pro-Series #1) \nAttire: Golf Casual. Suit/tie is not required.
URL:https://www.minnesotapga.com/event/spring-meeting/
LOCATION:Olympic Hills GC\, 10625 Mt Curve Rd\, Eden Prairie\, 55347\, United States
GEO:44.83147;-93.4128373
X-APPLE-STRUCTURED-LOCATION;VALUE=URI;X-ADDRESS=Olympic Hills GC 10625 Mt Curve Rd Eden Prairie 55347 United States;X-APPLE-RADIUS=500;X-TITLE=10625 Mt Curve Rd:geo:-93.4128373,44.83147
END:VEVENT
BEGIN:VEVENT
DTSTART;TZID=UTC:20210503T130000
DTEND;TZID=UTC:20210503T170000
DTSTAMP:20260424T041727
CREATED:20210212T155851Z
LAST-MODIFIED:20210212T155851Z
UID:10000298-1620046800-1620061200@www.minnesotapga.com
SUMMARY:Pro-Series #1
DESCRIPTION:Registration Opens: March 22\, 2021 @ 9:00 a.m. \nRegistration Closes: April 29\, 2021 @ NOON \n\nFormat: Four-Ball Stroke Play \n\nPlayers will be allowed to pick their own partner.\n\nEligibility: Open to all PGA members and associates in good standing. \n 
URL:https://www.minnesotapga.com/event/pro-series-1/
LOCATION:Olympic Hills GC\, 10625 Mt Curve Rd\, Eden Prairie\, 55347\, United States
GEO:44.83147;-93.4128373
X-APPLE-STRUCTURED-LOCATION;VALUE=URI;X-ADDRESS=Olympic Hills GC 10625 Mt Curve Rd Eden Prairie 55347 United States;X-APPLE-RADIUS=500;X-TITLE=10625 Mt Curve Rd:geo:-93.4128373,44.83147
END:VEVENT
BEGIN:VEVENT
DTSTART;TZID=UTC:20210507T080000
DTEND;TZID=UTC:20210507T170000
DTSTAMP:20260424T041727
CREATED:20210212T162356Z
LAST-MODIFIED:20210212T162356Z
UID:10000302-1620374400-1620406800@www.minnesotapga.com
SUMMARY:Playing Ability Test - Bunker Hills GC
DESCRIPTION:PAT entry must be done through www.pga.org. \nRegistration Deadline: April 29\, 2021 \n 
URL:https://www.minnesotapga.com/event/playing-ability-test-bunker-hills-gc/
LOCATION:Bunker Hills GC\, 12800 Bunker Prairie Road\, Coon Rapids\, MN\, 55448\, United States
GEO:45.2037666;-93.2885172
X-APPLE-STRUCTURED-LOCATION;VALUE=URI;X-ADDRESS=Bunker Hills GC 12800 Bunker Prairie Road Coon Rapids MN 55448 United States;X-APPLE-RADIUS=500;X-TITLE=12800 Bunker Prairie Road:geo:-93.2885172,45.2037666
END:VEVENT
BEGIN:VEVENT
DTSTART;TZID=UTC:20210507T080000
DTEND;TZID=UTC:20210507T170000
DTSTAMP:20260424T041727
CREATED:20210212T163958Z
LAST-MODIFIED:20210223T220633Z
UID:10000306-1620374400-1620406800@www.minnesotapga.com
SUMMARY:Heppner's Auto Body Pro-Am
DESCRIPTION:This is a Open Pro-Am. Please contact the host professional for entry information or review the entry form.
URL:https://www.minnesotapga.com/event/heppners-auto-body-pro-am/
LOCATION:Indian Hills GC\, 6667 Keats Ave N\, Stillwater\, MN\, 55082\, United States
GEO:45.044386;-92.899366
X-APPLE-STRUCTURED-LOCATION;VALUE=URI;X-ADDRESS=Indian Hills GC 6667 Keats Ave N Stillwater MN 55082 United States;X-APPLE-RADIUS=500;X-TITLE=6667 Keats Ave N:geo:-92.899366,45.044386
END:VEVENT
BEGIN:VEVENT
DTSTART;TZID=UTC:20210510T080000
DTEND;TZID=UTC:20210510T170000
DTSTAMP:20260424T041727
CREATED:20210212T163256Z
LAST-MODIFIED:20210212T163256Z
UID:10000304-1620633600-1620666000@www.minnesotapga.com
SUMMARY:Minnesota PGA Match Play Championship
DESCRIPTION:Registration Opens: March 22\, 2021 @ 9:00 a.m. \nRegistration Closes: May 6\, 2021 @ NOON \n\nFormat: Individual Match Play \nEligibility: Open to all PGA members in good standing. \n\n2021 Match Schedule:\nRound 64: Monday\, May 10 at Mendakota CC\nRound 32: Monday\, May 10 at Mendakota CC\nRound 16: Sunday\, July 25\nRound 8: Sunday\, September 12\nRound of 4 & Championship Match: TBD
URL:https://www.minnesotapga.com/event/minnesota-pga-match-play-championship/
LOCATION:Mendakota CC\, 2075 Mendakota Dr\, Mendota Heights\, MN\, 55120\, United States
GEO:44.8799192;-93.1349708
X-APPLE-STRUCTURED-LOCATION;VALUE=URI;X-ADDRESS=Mendakota CC 2075 Mendakota Dr Mendota Heights MN 55120 United States;X-APPLE-RADIUS=500;X-TITLE=2075 Mendakota Dr:geo:-93.1349708,44.8799192
END:VEVENT
BEGIN:VEVENT
DTSTART;TZID=UTC:20210516T090000
DTEND;TZID=UTC:20210517T130000
DTSTAMP:20260424T041727
CREATED:20210215T184711Z
LAST-MODIFIED:20210215T184809Z
UID:10000310-1621155600-1621256400@www.minnesotapga.com
SUMMARY:Cragun's Legacy Pro-Am
DESCRIPTION:This is a Open Pro-Am. Please contact the host professional for entry information or review the entry form.
URL:https://www.minnesotapga.com/event/craguns-legacy-pro-am/
LOCATION:Cragun’s Legacy Golf Courses\, 11320 Gull River Rd\, Brainerd\, MN\, 56401\, United States
GEO:46.394399;-94.349748
X-APPLE-STRUCTURED-LOCATION;VALUE=URI;X-ADDRESS=Cragun’s Legacy Golf Courses 11320 Gull River Rd Brainerd MN 56401 United States;X-APPLE-RADIUS=500;X-TITLE=11320 Gull River Rd:geo:-94.349748,46.394399
END:VEVENT
BEGIN:VEVENT
DTSTART;TZID=UTC:20210520T080000
DTEND;TZID=UTC:20210520T170000
DTSTAMP:20260424T041727
CREATED:20210215T185027Z
LAST-MODIFIED:20210215T185027Z
UID:10000312-1621497600-1621530000@www.minnesotapga.com
SUMMARY:Valley Days Invitiational
DESCRIPTION:This is an invitation-only Pro-Am.
URL:https://www.minnesotapga.com/event/valley-days-invitiational/
LOCATION:Minnesota Valley CC\, 6300 Auto Club Rd\, Bloomington\, MN\, 55438\, United States
GEO:44.793101;-93.363095
X-APPLE-STRUCTURED-LOCATION;VALUE=URI;X-ADDRESS=Minnesota Valley CC 6300 Auto Club Rd Bloomington MN 55438 United States;X-APPLE-RADIUS=500;X-TITLE=6300 Auto Club Rd:geo:-93.363095,44.793101
END:VEVENT
BEGIN:VEVENT
DTSTART;TZID=UTC:20210524T080000
DTEND;TZID=UTC:20210524T170000
DTSTAMP:20260424T041727
CREATED:20210215T185244Z
LAST-MODIFIED:20210215T185244Z
UID:10000314-1621843200-1621875600@www.minnesotapga.com
SUMMARY:PGA-MGA Cup Matches
DESCRIPTION:Invitation-only event. \nThis match-play team event is an annual competition between the top PGA professionals and the top amateur players in the area. Each team is comprised of 20 players broken down into three divisions- Regular (12 players)\, Senior (4 players)\, and Women (4 players). \nA team of two professionals will compete against a team of two amateurs in a Four-Ball match\, while concurrently; each professional plays a Singles match against one of the amateurs. Scoring is similar to the Ryder Cup\, and should the matches end in a tie\, the defending Champions retain the Cup.
URL:https://www.minnesotapga.com/event/pga-mga-cup-matches/
LOCATION:Edinburgh USA GC\, 8700 Edinbrook Crossing\, Brooklyn Park\, MN\, 55443\, United States
GEO:45.1124567;-93.3270204
X-APPLE-STRUCTURED-LOCATION;VALUE=URI;X-ADDRESS=Edinburgh USA GC 8700 Edinbrook Crossing Brooklyn Park MN 55443 United States;X-APPLE-RADIUS=500;X-TITLE=8700 Edinbrook Crossing:geo:-93.3270204,45.1124567
END:VEVENT
END:VCALENDAR