BEGIN:VCALENDAR
VERSION:2.0
PRODID:-//Minnesota PGA Section - ECPv6.15.20//NONSGML v1.0//EN
CALSCALE:GREGORIAN
METHOD:PUBLISH
X-ORIGINAL-URL:https://www.minnesotapga.com
X-WR-CALDESC:Events for Minnesota PGA Section
REFRESH-INTERVAL;VALUE=DURATION:PT1H
X-Robots-Tag:noindex
X-PUBLISHED-TTL:PT1H
BEGIN:VTIMEZONE
TZID:UTC
BEGIN:STANDARD
TZOFFSETFROM:+0000
TZOFFSETTO:+0000
TZNAME:UTC
DTSTART:20210101T000000
END:STANDARD
END:VTIMEZONE
BEGIN:VEVENT
DTSTART;TZID=UTC:20220303T090000
DTEND;TZID=UTC:20220303T120000
DTSTAMP:20260423T100351
CREATED:20220121T184301Z
LAST-MODIFIED:20220121T184301Z
UID:10000270-1646298000-1646308800@www.minnesotapga.com
SUMMARY:Employment Seminar
DESCRIPTION:Day’s Activities: \n9:00 am – 9:15 am – Introductions\n9:15 am – 10:30 am – Jacque Madison\, PGA Career Consultant \nNational Employment Trends/What are Employer’s Wants/Needs \n10:30 am – 11:30 am – Panel Discussion – Connor Bergman (Northland CC)\, Michael Foley (Somerset CC)\, Andy Gerber (Hidden Greens GC) \nWhat local employers want\, Interviewing techniques\, Resumes/Portfolios\, Seasonal Employees \n11:30 am – 12:00 pm – Q&A \n12:00 pm – Lunch provided \n*Three (3) PGA Required MSR available to attendees.
URL:https://www.minnesotapga.com/event/employment-seminar/
END:VEVENT
BEGIN:VEVENT
DTSTART;TZID=UTC:20220321T080000
DTEND;TZID=UTC:20220321T153000
DTSTAMP:20260423T100351
CREATED:20220121T184430Z
LAST-MODIFIED:20220121T184430Z
UID:10000372-1647849600-1647876600@www.minnesotapga.com
SUMMARY:PGA HOPE Training
DESCRIPTION:PGA Hope Instructor Training at Bunker Hills Golf Course in Coon Rapids\, MN. The Minnesota PGA is teaming up with PGA REACH to provide specialized training to our PGA Professionals on adaptive golf training. Attendees will be trained on the best and most effective methods for coaching wounded warriors\, veterans\, and those with physical limitations. Students will be better prepared to engage the veteran communities in which they serve and engage in PGA HOPE (Helping Our Patriots Everywhere) programming. The session will be a combination of classroom and practical\, hands-on training with a National Trainer. \nAll PGA Members applying for PGA HOPE funding must be a PGA HOPE certified instructor. Unless you attend a training\, you are not a certified instructor. \n*Six (6) PGA Required MSR available to PGA Members in attendance.
URL:https://www.minnesotapga.com/event/pga-hope-training-2/
END:VEVENT
BEGIN:VEVENT
DTSTART;TZID=UTC:20220328T080000
DTEND;TZID=UTC:20220328T170000
DTSTAMP:20260423T100351
CREATED:20220303T154738Z
LAST-MODIFIED:20220303T154738Z
UID:10000378-1648454400-1648486800@www.minnesotapga.com
SUMMARY:Spring Teaching Seminar
DESCRIPTION:Join us for the Minnesota PGA Section Spring Teaching Seminar on March 28th at Interlachen Country Club. PGA Members will receive 2 MSRs for attending. Option for attendees to join via Zoom as well. Link will be sent out to all registered attendees. \nSeminar will be led by Luke Benoit\, PGA Director of Instruction at Interlachen CC. \nSeminar will take place in the Teaching Center at Interlachen CC.
URL:https://www.minnesotapga.com/event/spring-teaching-seminar/
END:VEVENT
BEGIN:VEVENT
DTSTART;TZID=UTC:20220328T110000
DTEND;TZID=UTC:20220328T150000
DTSTAMP:20260423T100351
CREATED:20220204T160956Z
LAST-MODIFIED:20220204T160956Z
UID:10000376-1648465200-1648479600@www.minnesotapga.com
SUMMARY:Dakota Chapter Winter Meeting
DESCRIPTION:The Dakota Chapter will host it’s winter meeting on Monday\, March 28 at Suite Shots in Fargo\, ND. Join your fellow PGA Professionals for great discussion to kick off the 2022 season! Appetizers\, facility tour and opportunity to hit golf balls is included in registration fee. All PGA Members and Associates may bring one guest. \nhttps://mnpga.bluegolf.com/bluegolf/mnpga22/event/mnpga2266/index.htm
URL:https://www.minnesotapga.com/event/dakota-chapter-winter-meeting/
END:VEVENT
END:VCALENDAR