BEGIN:VCALENDAR
VERSION:2.0
PRODID:-//Minnesota PGA Section - ECPv6.15.20//NONSGML v1.0//EN
CALSCALE:GREGORIAN
METHOD:PUBLISH
X-WR-CALNAME:Minnesota PGA Section
X-ORIGINAL-URL:https://www.minnesotapga.com
X-WR-CALDESC:Events for Minnesota PGA Section
REFRESH-INTERVAL;VALUE=DURATION:PT1H
X-Robots-Tag:noindex
X-PUBLISHED-TTL:PT1H
BEGIN:VTIMEZONE
TZID:UTC
BEGIN:STANDARD
TZOFFSETFROM:+0000
TZOFFSETTO:+0000
TZNAME:UTC
DTSTART:20220101T000000
END:STANDARD
END:VTIMEZONE
BEGIN:VEVENT
DTSTART;TZID=UTC:20230322T080000
DTEND;TZID=UTC:20230322T150000
DTSTAMP:20260419T132225
CREATED:20230214T160716Z
LAST-MODIFIED:20230214T160716Z
UID:10000424-1679472000-1679497200@www.minnesotapga.com
SUMMARY:PGA HOPE Training
DESCRIPTION:PGA Hope Instructor Training at Braemar Golf Club and inside the Dome in Edina\, MN. The Minnesota PGA is teaming up with PGA REACH to provide specialized training to our PGA Professionals on adaptive golf training. Attendees will be trained on the best and most effective methods for coaching wounded warriors\, veterans\, and those with physical limitations. Students will be better prepared to engage the veteran communities in which they serve and engage in PGA HOPE (Helping Our Patriots Everywhere) programming. The session will be a combination of classroom and practical\, hands-on training with a National Trainer. \nAll PGA Members who are involved in a PGA HOPE program must be a PGA HOPE certified instructor. Unless you attend a training\, you are not a certified instructor. \n**7 PDRs available for all PGA Members in attendance
URL:https://www.minnesotapga.com/event/pga-hope-training-3/
LOCATION:Braemar GC\, 6364 John Harris Dr\, Edina\, MN\, 55439\, United States
GEO:44.8671945;-93.3842867
X-APPLE-STRUCTURED-LOCATION;VALUE=URI;X-ADDRESS=Braemar GC 6364 John Harris Dr Edina MN 55439 United States;X-APPLE-RADIUS=500;X-TITLE=6364 John Harris Dr:geo:-93.3842867,44.8671945
END:VEVENT
BEGIN:VEVENT
DTSTART;TZID=UTC:20230323T080000
DTEND;TZID=UTC:20230323T150000
DTSTAMP:20260419T132225
CREATED:20230316T210921Z
LAST-MODIFIED:20230316T210921Z
UID:10000426-1679558400-1679583600@www.minnesotapga.com
SUMMARY:PGA HOPE Training in Fargo
DESCRIPTION:
URL:https://www.minnesotapga.com/event/pga-hope-training-in-fargo/
LOCATION:Suite Shots
END:VEVENT
BEGIN:VEVENT
DTSTART;TZID=UTC:20230327T090000
DTEND;TZID=UTC:20230327T163000
DTSTAMP:20260419T132225
CREATED:20230214T160846Z
LAST-MODIFIED:20230214T160846Z
UID:10000425-1679907600-1679934600@www.minnesotapga.com
SUMMARY:Teaching & Coaching Seminar
DESCRIPTION:Join us for the Minnesota PGA Section Spring Teaching Seminar on March 27th at Bunker Hills GC in Coon Rapids\, MN. 7 PDR credits available for attending in person. \nThe seminar will include presentations from: \n1) Nationally known Golf instructor Scott Fawcett and DECADE Golf\n2) Section Partner Twin Cities Orthopedics\n3) Scott McDonald and Luke Benoit of Rypstick Golf\n4) A virtual presentation by PGA of America partner RGX Golf and\ninstructor Jared Butts
URL:https://www.minnesotapga.com/event/teaching-coaching-seminar/
LOCATION:Bunker Hills GC\, 12800 Bunker Prairie Road\, Coon Rapids\, MN\, 55448\, United States
GEO:45.2037666;-93.2885172
X-APPLE-STRUCTURED-LOCATION;VALUE=URI;X-ADDRESS=Bunker Hills GC 12800 Bunker Prairie Road Coon Rapids MN 55448 United States;X-APPLE-RADIUS=500;X-TITLE=12800 Bunker Prairie Road:geo:-93.2885172,45.2037666
END:VEVENT
END:VCALENDAR