BEGIN:VCALENDAR
VERSION:2.0
PRODID:-//Minnesota PGA Section - ECPv6.15.20//NONSGML v1.0//EN
CALSCALE:GREGORIAN
METHOD:PUBLISH
X-ORIGINAL-URL:https://www.minnesotapga.com
X-WR-CALDESC:Events for Minnesota PGA Section
REFRESH-INTERVAL;VALUE=DURATION:PT1H
X-Robots-Tag:noindex
X-PUBLISHED-TTL:PT1H
BEGIN:VTIMEZONE
TZID:UTC
BEGIN:STANDARD
TZOFFSETFROM:+0000
TZOFFSETTO:+0000
TZNAME:UTC
DTSTART:20220101T000000
END:STANDARD
END:VTIMEZONE
BEGIN:VEVENT
DTSTART;TZID=UTC:20230828T080000
DTEND;TZID=UTC:20230903T170000
DTSTAMP:20260419T144305
CREATED:20230519T151758Z
LAST-MODIFIED:20230519T151758Z
UID:10000467-1693209600-1693760400@www.minnesotapga.com
SUMMARY:CRMC Championship
DESCRIPTION:The CRMC Championship will be contested during the week of August 28 – September 3\, 2023 at Cragun’s Legacy Courses.
URL:https://www.minnesotapga.com/event/crmc-championship-2/
END:VEVENT
BEGIN:VEVENT
DTSTART;TZID=UTC:20230908T080000
DTEND;TZID=UTC:20230908T170000
DTSTAMP:20260419T144305
CREATED:20230519T152055Z
LAST-MODIFIED:20230519T152055Z
UID:10000469-1694160000-1694192400@www.minnesotapga.com
SUMMARY:1st Annual Pro-Am at Majestic Oaks
DESCRIPTION:This is a Open Pro-Am. Please contact the host professional for entry information.
URL:https://www.minnesotapga.com/event/1st-annual-pro-am-at-majestic-oaks/
END:VEVENT
BEGIN:VEVENT
DTSTART;TZID=UTC:20230908T080000
DTEND;TZID=UTC:20230908T170000
DTSTAMP:20260419T144305
CREATED:20230519T152348Z
LAST-MODIFIED:20230519T152348Z
UID:10000363-1694160000-1694192400@www.minnesotapga.com
SUMMARY:Sanford International Pre-Qualifying
DESCRIPTION:
URL:https://www.minnesotapga.com/event/sanford-international-pre-qualifying-3/
END:VEVENT
BEGIN:VEVENT
DTSTART;TZID=UTC:20230911T080000
DTEND;TZID=UTC:20230911T170000
DTSTAMP:20260419T144305
CREATED:20230519T152132Z
LAST-MODIFIED:20230519T152132Z
UID:10000470-1694419200-1694451600@www.minnesotapga.com
SUMMARY:MN PGA Assistants' Championship
DESCRIPTION:ELIGIBILITY: A-8 members and associates will be eligible to compete in the Assistants’ Section Championship\, BUT only A-8 and B-8 (who have successfully completed and passed Level 1 and matriculated into Level 2 of the PGA PGM program) classifications are eligible to compete in the Assistant PGA Professional Championship. \nAll registrations will be handled by the Minnesota PGA. Please register for this event the same as any other section event by using your BlueGolf account. \nREGISTRATION BEGINS: March 20\, 2023 @ 9AM\nENTRY DEADLINE: September 4\, 2023 @ 4 PM\nREGISTRATION FEE: $200
URL:https://www.minnesotapga.com/event/mn-pga-assistants-championship-2/
END:VEVENT
BEGIN:VEVENT
DTSTART;TZID=UTC:20230911T080000
DTEND;TZID=UTC:20230911T170000
DTSTAMP:20260419T144305
CREATED:20230519T152220Z
LAST-MODIFIED:20230519T152220Z
UID:10000360-1694419200-1694451600@www.minnesotapga.com
SUMMARY:River Bend Business Products Pro-Am
DESCRIPTION:This is a Open Pro-Am. Please contact the host professional for entry information.
URL:https://www.minnesotapga.com/event/river-bend-business-products-pro-am-3/
END:VEVENT
BEGIN:VEVENT
DTSTART;TZID=UTC:20230912T080000
DTEND;TZID=UTC:20230912T170000
DTSTAMP:20260419T144305
CREATED:20230519T152310Z
LAST-MODIFIED:20230519T152310Z
UID:10000361-1694505600-1694538000@www.minnesotapga.com
SUMMARY:Sanford International Event Qualifying
DESCRIPTION:
URL:https://www.minnesotapga.com/event/sanford-international-event-qualifying-2/
END:VEVENT
BEGIN:VEVENT
DTSTART;TZID=UTC:20230912T100000
DTEND;TZID=UTC:20230912T183000
DTSTAMP:20260419T144305
CREATED:20230510T134355Z
LAST-MODIFIED:20230510T134516Z
UID:10000432-1694512800-1694543400@www.minnesotapga.com
SUMMARY:Bad Pants Open
DESCRIPTION:
URL:https://www.minnesotapga.com/event/bad-pants-open/
END:VEVENT
BEGIN:VEVENT
DTSTART;TZID=UTC:20230917T080000
DTEND;TZID=UTC:20230917T170000
DTSTAMP:20260419T144305
CREATED:20230519T152442Z
LAST-MODIFIED:20230519T152442Z
UID:10000365-1694937600-1694970000@www.minnesotapga.com
SUMMARY:Minnewaska Fairways Fore All Pro-Am
DESCRIPTION:This is an Invitational Pro-Am.
URL:https://www.minnesotapga.com/event/minnewaska-fairways-fore-all-pro-am-2/
END:VEVENT
BEGIN:VEVENT
DTSTART;TZID=UTC:20230918T080000
DTEND;TZID=UTC:20230918T170000
DTSTAMP:20260419T144305
CREATED:20230519T152546Z
LAST-MODIFIED:20230519T152546Z
UID:10000367-1695024000-1695056400@www.minnesotapga.com
SUMMARY:Legacy of Hope Pro-Am
DESCRIPTION:If you are interested in registering for the Pro-Am\, please contact Connor Bergman (cbergman@northlandcountryclub.com). \nAll pros that play will receive a $125 appearance fee.
URL:https://www.minnesotapga.com/event/legacy-of-hope-pro-am-2/
END:VEVENT
BEGIN:VEVENT
DTSTART;TZID=UTC:20230918T080000
DTEND;TZID=UTC:20230918T170000
DTSTAMP:20260419T144305
CREATED:20230519T152706Z
LAST-MODIFIED:20230519T152706Z
UID:10000369-1695024000-1695056400@www.minnesotapga.com
SUMMARY:Playing Ability Test-Pebble Creek GC
DESCRIPTION:PAT entry must be done through www.pga.org. \nREGISTRATION DEADLINE: September 11\, 2023
URL:https://www.minnesotapga.com/event/playing-ability-test-pebble-creek-gc-3/
END:VEVENT
BEGIN:VEVENT
DTSTART;TZID=UTC:20230922T080000
DTEND;TZID=UTC:20230922T170000
DTSTAMP:20260419T144305
CREATED:20230519T152742Z
LAST-MODIFIED:20230519T152742Z
UID:10000371-1695369600-1695402000@www.minnesotapga.com
SUMMARY:Lakeville South Boys Golf Pro Am
DESCRIPTION:
URL:https://www.minnesotapga.com/event/lakeville-south-boys-golf-pro-am-3/
END:VEVENT
BEGIN:VEVENT
DTSTART;TZID=UTC:20230924T080000
DTEND;TZID=UTC:20230924T170000
DTSTAMP:20260419T144305
CREATED:20230519T152900Z
LAST-MODIFIED:20230519T152900Z
UID:10000373-1695542400-1695574800@www.minnesotapga.com
SUMMARY:Minnesota National Pro-Am
DESCRIPTION:This is an Open Pro-Am.
URL:https://www.minnesotapga.com/event/minnesota-national-pro-am-2/
END:VEVENT
BEGIN:VEVENT
DTSTART;TZID=UTC:20230925T080000
DTEND;TZID=UTC:20230925T170000
DTSTAMP:20260419T144305
CREATED:20230519T152934Z
LAST-MODIFIED:20230519T152934Z
UID:10000375-1695628800-1695661200@www.minnesotapga.com
SUMMARY:Luther Pro-Series Tour Championship
DESCRIPTION:
URL:https://www.minnesotapga.com/event/luther-pro-series-tour-championship-3/
END:VEVENT
BEGIN:VEVENT
DTSTART;TZID=UTC:20230925T080000
DTEND;TZID=UTC:20230925T170000
DTSTAMP:20260419T144305
CREATED:20230519T153106Z
LAST-MODIFIED:20230519T153106Z
UID:10000377-1695628800-1695661200@www.minnesotapga.com
SUMMARY:Luther Pro-Series Tour Championship
DESCRIPTION:
URL:https://www.minnesotapga.com/event/luther-pro-series-tour-championship-4/
END:VEVENT
END:VCALENDAR