BEGIN:VCALENDAR
VERSION:2.0
PRODID:-//Minnesota PGA Section - ECPv6.15.20//NONSGML v1.0//EN
CALSCALE:GREGORIAN
METHOD:PUBLISH
X-WR-CALNAME:Minnesota PGA Section
X-ORIGINAL-URL:https://www.minnesotapga.com
X-WR-CALDESC:Events for Minnesota PGA Section
REFRESH-INTERVAL;VALUE=DURATION:PT1H
X-Robots-Tag:noindex
X-PUBLISHED-TTL:PT1H
BEGIN:VTIMEZONE
TZID:UTC
BEGIN:STANDARD
TZOFFSETFROM:+0000
TZOFFSETTO:+0000
TZNAME:UTC
DTSTART:20210101T000000
END:STANDARD
END:VTIMEZONE
BEGIN:VEVENT
DTSTART;VALUE=DATE:20220801
DTEND;VALUE=DATE:20220802
DTSTAMP:20260421T063126
CREATED:20220526T160438Z
LAST-MODIFIED:20220526T162232Z
UID:10000397-1659312000-1659398399@www.minnesotapga.com
SUMMARY:Legacy of Hope Pro-Am
DESCRIPTION:
URL:https://www.minnesotapga.com/event/legacy-of-hope-pro-am/
LOCATION:Northland CC\, MN\, United States
GEO:46.729553;-94.6858998
END:VEVENT
END:VCALENDAR