BEGIN:VCALENDAR
VERSION:2.0
PRODID:-//Minnesota PGA Section - ECPv6.15.20//NONSGML v1.0//EN
CALSCALE:GREGORIAN
METHOD:PUBLISH
X-WR-CALNAME:Minnesota PGA Section
X-ORIGINAL-URL:https://www.minnesotapga.com
X-WR-CALDESC:Events for Minnesota PGA Section
REFRESH-INTERVAL;VALUE=DURATION:PT1H
X-Robots-Tag:noindex
X-PUBLISHED-TTL:PT1H
BEGIN:VTIMEZONE
TZID:UTC
BEGIN:STANDARD
TZOFFSETFROM:+0000
TZOFFSETTO:+0000
TZNAME:UTC
DTSTART:20250101T000000
END:STANDARD
END:VTIMEZONE
BEGIN:VEVENT
DTSTART;TZID=UTC:20260503T170000
DTEND;TZID=UTC:20260503T213000
DTSTAMP:20260424T233339
CREATED:20260330T152218Z
LAST-MODIFIED:20260330T152218Z
UID:10000770-1777827600-1777843800@www.minnesotapga.com
SUMMARY:Awards Banquet
DESCRIPTION:The 2025 Minnesota PGA Section Awards Dinner will be held at Olympic Hills Golf Club on Sunday\, May 3rd from 5:00 – 9:00 pm. This semi-formal event will celebrate the 2025 Section Award winners. Guests are welcome to attend! \nDeadline to purchase tickets is Monday\, April 20\, 2026 at 12:00 PM CDT.
URL:https://www.minnesotapga.com/event/awards-banquet/
LOCATION:Olympic Hills GC\, 10625 Mt Curve Rd\, Eden Prairie\, 55347\, United States
GEO:44.83147;-93.4128373
X-APPLE-STRUCTURED-LOCATION;VALUE=URI;X-ADDRESS=Olympic Hills GC 10625 Mt Curve Rd Eden Prairie 55347 United States;X-APPLE-RADIUS=500;X-TITLE=10625 Mt Curve Rd:geo:-93.4128373,44.83147
END:VEVENT
BEGIN:VEVENT
DTSTART;VALUE=DATE:20260504
DTEND;VALUE=DATE:20260505
DTSTAMP:20260424T233339
CREATED:20260310T165106Z
LAST-MODIFIED:20260310T165106Z
UID:10000704-1777852800-1777939199@www.minnesotapga.com
SUMMARY:Thompson Golf Management Pro Series #1
DESCRIPTION:
URL:https://www.minnesotapga.com/event/thompson-golf-management-pro-series-1/
LOCATION:Olympic Hills GC\, 10625 Mt Curve Rd\, Eden Prairie\, 55347\, United States
GEO:44.83147;-93.4128373
X-APPLE-STRUCTURED-LOCATION;VALUE=URI;X-ADDRESS=Olympic Hills GC 10625 Mt Curve Rd Eden Prairie 55347 United States;X-APPLE-RADIUS=500;X-TITLE=10625 Mt Curve Rd:geo:-93.4128373,44.83147
END:VEVENT
BEGIN:VEVENT
DTSTART;TZID=UTC:20260504T080000
DTEND;TZID=UTC:20260504T123000
DTSTAMP:20260424T233339
CREATED:20260408T194102Z
LAST-MODIFIED:20260408T194640Z
UID:10000854-1777881600-1777897800@www.minnesotapga.com
SUMMARY:Spring Update
DESCRIPTION:Join us for the Minnesota PGA Section Spring Education and Section Update on May 4 at Olympic Hills GC. Guest speakers include PGA’s CTO/CIO Kevin Scott (AI seminar)\, PGA of America Vice President Nathan Charnes\, PGA\, District 8 Director Phil Anderson\, PGA and PGA Career Consultant Andrea Kloppman-Heit. PGA Members will receive 3 PDRs for attending in person. Breakfast and Lunch is included in the registration fee. \nThe Update is presented by GolfTec and supported by AloeUp and StrackaLine. \nThe TGM Pro-Series #1 presented by Luther will follow the Education Event with a 12:30pm shotgun start.
URL:https://www.minnesotapga.com/event/spring-update-4/
LOCATION:Olympic Hills GC\, 10625 Mt Curve Rd\, Eden Prairie\, 55347\, United States
GEO:44.83147;-93.4128373
X-APPLE-STRUCTURED-LOCATION;VALUE=URI;X-ADDRESS=Olympic Hills GC 10625 Mt Curve Rd Eden Prairie 55347 United States;X-APPLE-RADIUS=500;X-TITLE=10625 Mt Curve Rd:geo:-93.4128373,44.83147
END:VEVENT
END:VCALENDAR