BEGIN:VCALENDAR
VERSION:2.0
PRODID:-//Minnesota PGA Section - ECPv6.15.20//NONSGML v1.0//EN
CALSCALE:GREGORIAN
METHOD:PUBLISH
X-WR-CALNAME:Minnesota PGA Section
X-ORIGINAL-URL:https://www.minnesotapga.com
X-WR-CALDESC:Events for Minnesota PGA Section
REFRESH-INTERVAL;VALUE=DURATION:PT1H
X-Robots-Tag:noindex
X-PUBLISHED-TTL:PT1H
BEGIN:VTIMEZONE
TZID:UTC
BEGIN:STANDARD
TZOFFSETFROM:+0000
TZOFFSETTO:+0000
TZNAME:UTC
DTSTART:20190101T000000
END:STANDARD
END:VTIMEZONE
BEGIN:VEVENT
DTSTART;TZID=UTC:20210715T080000
DTEND;TZID=UTC:20210715T140000
DTSTAMP:20260422T100822
CREATED:20210215T202905Z
LAST-MODIFIED:20210215T202905Z
UID:10000337-1626336000-1626357600@www.minnesotapga.com
SUMMARY:3M Open Pre-Qualifier #1
DESCRIPTION:Registration Opens: March 8\, 2021 @ 9:00 a.m. \nRegistration Closes: July 9\, 2021 @ 4:00 p.m. \n\nFormat: Individual stroke play\, 18-holes \nPlease view the tournament information page for all other information
URL:https://www.minnesotapga.com/event/3m-open-pre-qualifier-1/
LOCATION:Victory Links GC
END:VEVENT
BEGIN:VEVENT
DTSTART;TZID=UTC:20210618T080000
DTEND;TZID=UTC:20210618T170000
DTSTAMP:20260422T100822
CREATED:20210215T195003Z
LAST-MODIFIED:20210215T195003Z
UID:10000324-1624003200-1624035600@www.minnesotapga.com
SUMMARY:Minnesota State Open Qualifier #3
DESCRIPTION:Registration Opens: March 22\, 2021 @ 9:00 a.m. \nRegistration Closes: June 3\, 2021 @ NOON \n\nFormat: Individual stroke play\, 18-holes \nEligibility: \n\nProfessionals: Minnesota Section PGA Members\, Apprentices and non-PGA professionals who currently reside and have physically resided within the territorial boundaries of the Minnesota Section for a minimum of six (6) months since the completion of the preceding State Open shall be eligible to compete in any qualifying event. Any past champion is eligible to participate regardless of their residency.\nAmateurs: Amateur players must have a USGA handicap of six (6.0) or less when computed in accordance with the USGA specifications. Amateurs must be affiliated with a golf club within the Minnesota Section boundaries.\nAll entries are subject to approval by the Minnesota PGA Section.\n\nNote: The Minnesota Section encompasses Minnesota\, North and South Dakota; Saint Croix County\, Wisconsin; and the area in and around Superior\, Wisconsin.
URL:https://www.minnesotapga.com/event/minnesota-state-open-qualifier-3/
LOCATION:Victory Links GC
END:VEVENT
BEGIN:VEVENT
DTSTART;TZID=UTC:20200921T080000
DTEND;TZID=UTC:20200921T170000
DTSTAMP:20260422T100822
CREATED:20200911T153238Z
LAST-MODIFIED:20200911T153238Z
UID:10000286-1600675200-1600707600@www.minnesotapga.com
SUMMARY:Luther Pro-Series Tour Championship
DESCRIPTION:
URL:https://www.minnesotapga.com/event/luther-pro-series-tour-championship/
LOCATION:Victory Links GC
CATEGORIES:Homepage Events
END:VEVENT
END:VCALENDAR